BEGIN:VCALENDAR
VERSION:2.0
PRODID:-//Connaissance des musiques traditionnelles nordiques - ECPv6.15.20//NONSGML v1.0//EN
CALSCALE:GREGORIAN
METHOD:PUBLISH
X-WR-CALNAME:Connaissance des musiques traditionnelles nordiques
X-ORIGINAL-URL:https://cmtn-scandinavie.fr
X-WR-CALDESC:Évènements pour Connaissance des musiques traditionnelles nordiques
REFRESH-INTERVAL;VALUE=DURATION:PT1H
X-Robots-Tag:noindex
X-PUBLISHED-TTL:PT1H
BEGIN:VTIMEZONE
TZID:Europe/Paris
BEGIN:DAYLIGHT
TZOFFSETFROM:+0100
TZOFFSETTO:+0200
TZNAME:CEST
DTSTART:20250330T010000
END:DAYLIGHT
BEGIN:STANDARD
TZOFFSETFROM:+0200
TZOFFSETTO:+0100
TZNAME:CET
DTSTART:20251026T010000
END:STANDARD
BEGIN:DAYLIGHT
TZOFFSETFROM:+0100
TZOFFSETTO:+0200
TZNAME:CEST
DTSTART:20260329T010000
END:DAYLIGHT
BEGIN:STANDARD
TZOFFSETFROM:+0200
TZOFFSETTO:+0100
TZNAME:CET
DTSTART:20261025T010000
END:STANDARD
BEGIN:DAYLIGHT
TZOFFSETFROM:+0100
TZOFFSETTO:+0200
TZNAME:CEST
DTSTART:20270328T010000
END:DAYLIGHT
BEGIN:STANDARD
TZOFFSETFROM:+0200
TZOFFSETTO:+0100
TZNAME:CET
DTSTART:20271031T010000
END:STANDARD
END:VTIMEZONE
BEGIN:VEVENT
DTSTART;TZID=Europe/Paris:20260425T160000
DTEND;TZID=Europe/Paris:20260425T233000
DTSTAMP:20260425T012820
CREATED:20260202T110324Z
LAST-MODIFIED:20260202T110324Z
UID:2095-1777132800-1777159800@cmtn-scandinavie.fr
SUMMARY:Duo Tanghe Coudroy à Gahard
DESCRIPTION:Fest-Noz / Bal Folk à GAHARD le Samedi 25 Avril 2026\n\n\n\n\n\n\n\n\npar  La Gamelle Trad \n Le 25 avril 2026\, à partir de 16h  \nLa Gamelle Trad vous propose pour la 3ème édition du Fest-Noz Bal Folk à Gahard à partir de 18h – Apéro Concert de musique irlandaise aves les CEILI KILLERS – Fest Noz / Bal Folk avec : LA MEZANJ\, TANGHE/COUDROY\, LES GOULETTES\, les ateliers de La Bouèze et La Chapelotte – de 16h à 18 : Stage de danses suédoises animé par Martin Coudroy et Aurélien Tanghe Plus d’informations : www.lagamelletrad.fr \n\n\n\nStage de danses : Découvrir ou approfondir la danse suédoise \nProfitez de la joie de partager un mouvement et d’être transporté par le groupe en lien étroit avec la musique du duo Tanghe Coudroy. Le plaisir de danser\, l’écoute de la musique\, du partenaire et du groupe\, voilà les bases qui permettront une approche intuitive\, efficace\, enrichissante et abordable pour tous\, des plus novices en suédois comme ceux qui ont déjà une expérience de ce répertoire\, avec pour objectif de trouver du plaisir\, de la détente et des repères quelque soit son partenaire ou le type de musique. Nous aborderons certaines des danses les plus courantes\, comme la slängpolska\, la schottis et la polska mais aussi le menuett tellement agréable à danser !
URL:https://cmtn-scandinavie.fr/index.php/event/duo-tanghe-coudroy-a-gahard/
LOCATION:Salle de l’emeraude\, 1bis Rue Anne de Bretagne\, GAHARD\, 35490\, France
ATTACH;FMTTYPE=image/png:https://cmtn-scandinavie.fr/wp-content/uploads/2026/02/Capture-decran-2026-02-01-a-22.04.43.png
END:VEVENT
END:VCALENDAR